BEGIN:VCALENDAR
VERSION:2.0
PRODID:-//Strand Site - ECPv6.15.20//NONSGML v1.0//EN
CALSCALE:GREGORIAN
METHOD:PUBLISH
X-WR-CALNAME:Strand Site
X-ORIGINAL-URL:https://thestrandtheater.org
X-WR-CALDESC:Events for Strand Site
REFRESH-INTERVAL;VALUE=DURATION:PT1H
X-Robots-Tag:noindex
X-PUBLISHED-TTL:PT1H
BEGIN:VTIMEZONE
TZID:America/New_York
BEGIN:DAYLIGHT
TZOFFSETFROM:-0500
TZOFFSETTO:-0400
TZNAME:EDT
DTSTART:20250309T070000
END:DAYLIGHT
BEGIN:STANDARD
TZOFFSETFROM:-0400
TZOFFSETTO:-0500
TZNAME:EST
DTSTART:20251102T060000
END:STANDARD
BEGIN:DAYLIGHT
TZOFFSETFROM:-0500
TZOFFSETTO:-0400
TZNAME:EDT
DTSTART:20260308T070000
END:DAYLIGHT
BEGIN:STANDARD
TZOFFSETFROM:-0400
TZOFFSETTO:-0500
TZNAME:EST
DTSTART:20261101T060000
END:STANDARD
BEGIN:DAYLIGHT
TZOFFSETFROM:-0500
TZOFFSETTO:-0400
TZNAME:EDT
DTSTART:20270314T070000
END:DAYLIGHT
BEGIN:STANDARD
TZOFFSETFROM:-0400
TZOFFSETTO:-0500
TZNAME:EST
DTSTART:20271107T060000
END:STANDARD
END:VTIMEZONE
BEGIN:VEVENT
DTSTART;TZID=America/New_York:20260424T193000
DTEND;TZID=America/New_York:20260426T140000
DTSTAMP:20260421T070604
CREATED:20260302T034256Z
LAST-MODIFIED:20260323T145618Z
UID:11786-1777059000-1777212000@thestrandtheater.org
SUMMARY:That Thing You Do | Apr 24 & 26 Only
DESCRIPTION:Starring Tom Hanks\, Liv Tyler\, and Charlize Theron \n\n\n\nA local Pennsylvania band scores a one-hit wonder in 1964 and rides the star-making machinery as long as they can\, with lots of help from their manager. \n\n\n\nAdam Schlesinger\, the bassist of Fountains of Wayne\, penned the title song in response to a contest being held by the studio. Their song won\, being used in the movie. The movie was released shortly after their first album. \n\n\n\n\n\nTom Hanks named his production company Play-Tone after the fictional record label in the movie. \n\n\n\nThe four actors playing The Wonders rehearsed as a band for eight weeks to get the feel of performing\, but most of their performances in the film were dubbed by other musicians. \n\n\n\nThat Thing You Do! \n\n\n\nFriday\, April 24th\, 7:30PMSunday\, April 26th\, 2:00PM \n\n\n\n1996 | PG | 1 Hr. 48 Min. \n\n\n\n\n\n\nBuy Tickets
URL:https://thestrandtheater.org/event/that-thing-you-do
CATEGORIES:Movies
ATTACH;FMTTYPE=image/jpeg:https://thestrandtheater.org/wp-content/uploads/2026/03/That-Thing-You-Do-Web-Cell-e1772422555774.jpg
END:VEVENT
BEGIN:VEVENT
DTSTART;TZID=America/New_York:20260101T000000
DTEND;TZID=America/New_York:20261231T235959
DTSTAMP:20260421T070604
CREATED:20260125T223151Z
LAST-MODIFIED:20260413T021740Z
UID:11612-1767225600-1798761599@thestrandtheater.org
SUMMARY:USA 250
DESCRIPTION:The Strand Celebrates 250 Years of American Independence All Year Long! \n\n\n\nAt The Strand\, we are grateful for 250 years of American independence\, and are planning a year-long celebration! Each month\, we will salute American icons of the arts and entertainment industry alongside the outstanding live performances and movies that The Strand has become so well-known for. \n\n\n\nAlong with hosting these tremendous shows\, Strand patrons will receive a commemorative button bearing the likeness of the legend that coincides with the live show or film that is presented. The buttons are not for sale\, but available only as your gift for attending select programs. \n\n\n\n\n\nCommemorative Buttons Announced To Date: \n\n\n\nJanuaryBuddy Holly \n\n\n\n\n\n\n\n\nFilm: The Buddy Holly StoryLive: Buddy Holly & Friends\, Winter Dance Party \n\n\n\n\nFebruaryEarth\, Wind\, and Fire | James Stewart \n\n\n\n\n\n\n\n\nLive: Let’s Groove Tonight \n\n\n\n\n\n\n\nFilm: The Philadelphia Story \n\n\n\n\nMarchJohn Wayne | Simon and Garfunkel \n\n\n\n\n\n\n\n\nFilm: The Searchers \n\n\n\n\n\n\n\nLive: Forever Simon & Garfunkel \n\n\n\n\nAprilJohn Denver | Tom Hanks \n\n\n\n\n\n\n\n\nLive: Chris Collins & Members of BoulderCanyon \n\n\n\n\n\n\n\nFilm: That Thing You Do \n\n\n\n\nMayMarilyn Monroe | Robert Mitchum \n\n\n\n\n\n\n\n\nLive: A Toast To The Rat Pack & Marilyn \n\n\n\n\n\n\n\nFilm: The Longest Day
URL:https://thestrandtheater.org/event/usa-250
CATEGORIES:Special Events
ATTACH;FMTTYPE=image/jpeg:https://thestrandtheater.org/wp-content/uploads/2026/01/USA-250-Web-Cell-e1769207583276.jpg
END:VEVENT
END:VCALENDAR