BEGIN:VCALENDAR
VERSION:2.0
PRODID:-//Strand Site - ECPv6.15.20//NONSGML v1.0//EN
CALSCALE:GREGORIAN
METHOD:PUBLISH
X-ORIGINAL-URL:http://thestrandtheater.org
X-WR-CALDESC:Events for Strand Site
REFRESH-INTERVAL;VALUE=DURATION:PT1H
X-Robots-Tag:noindex
X-PUBLISHED-TTL:PT1H
BEGIN:VTIMEZONE
TZID:America/New_York
BEGIN:DAYLIGHT
TZOFFSETFROM:-0500
TZOFFSETTO:-0400
TZNAME:EDT
DTSTART:20260308T070000
END:DAYLIGHT
BEGIN:STANDARD
TZOFFSETFROM:-0400
TZOFFSETTO:-0500
TZNAME:EST
DTSTART:20261101T060000
END:STANDARD
BEGIN:DAYLIGHT
TZOFFSETFROM:-0500
TZOFFSETTO:-0400
TZNAME:EDT
DTSTART:20270314T070000
END:DAYLIGHT
BEGIN:STANDARD
TZOFFSETFROM:-0400
TZOFFSETTO:-0500
TZNAME:EST
DTSTART:20271107T060000
END:STANDARD
BEGIN:DAYLIGHT
TZOFFSETFROM:-0500
TZOFFSETTO:-0400
TZNAME:EDT
DTSTART:20280312T070000
END:DAYLIGHT
BEGIN:STANDARD
TZOFFSETFROM:-0400
TZOFFSETTO:-0500
TZNAME:EST
DTSTART:20281105T060000
END:STANDARD
END:VTIMEZONE
BEGIN:VEVENT
DTSTART;TZID=America/New_York:20270430T000000
DTEND;TZID=America/New_York:20270509T235959
DTSTAMP:20260425T074401
CREATED:20260421T001824Z
LAST-MODIFIED:20260421T001824Z
UID:11937-1809043200-1809907199@thestrandtheater.org
SUMMARY:A Funny Thing Happened On The Way To The Forum
DESCRIPTION:Even In A World Where More Laughter is Needed\, Is This Show TOO Funny? \n\n\n\nA Funny Thing Happened on the Way to the Forum is one of the funniest Broadway musicals ever written! Set in Roman times\, this non-stop farce of a comedy combines the ancient comedies of Plautus with Vaudevillian delivery! \n\n\n\n\n\nPsuedolus schemes to win the heart of the beauteous Phelia for his young master\, Hero. Of course\, chaos ensues with hair-brained schemes\, severe cases of mistaken identity\, slamming doors and convoluted plot twists! \n\n\n\nIn the intimate setting of The Strand\, the audience is practically joining the show as a forum of Roman citizens. Togas optional. \n\n\n\nA Funny Thing Happened On The Way To The Forum is part of the Broadway on Main Subscription Series which also includes Man of La Mancha\, and More Solid Gold. \n\n\n\nTickets are currently only available as part of the Broadway on Main Subscription series. Individual ticket sales begin May 2nd. \n\n\n\nA FUNNY THING HAPPENED ON THE WAY TO THE FORUM \n\n\n\nFridays & Saturdays\, April 30\, May 1\, 7 & 8\, 2027\,  7:00pmSunday Matinees\, May 2 & 9\, 2027\,  2:00pm \n\n\n\n$40 Reserve Seating$30 Limited or Obstructed View$30 with Broadway On Main subscription! \n\n\n\nSAVE $10 ON THE BEST SEATSJUST $27.50 with Broadway On Main & ‘Tis The Season combo packSAVE $12.50 ON THE BEST SEATS! \n\n\n\n\nPlease Call 724.742.0400 To Order Tickets\n\n\n\n\nTo arrange for handicapped accessible seating\, please call The Strand Box Office at 724.742.0400. Hours are Noon – 4pm\, Tuesday – Saturday. The Strand does not have an elevator.
URL:http://thestrandtheater.org/event/a-funny-thing-happened-on-the-way-to-the-forum
ATTACH;FMTTYPE=image/jpeg:http://thestrandtheater.org/wp-content/uploads/2026/04/A-Funny-Thing.Forum_-e1775153502593.jpg
END:VEVENT
END:VCALENDAR