BEGIN:VCALENDAR
VERSION:2.0
PRODID:-//Strand Site - ECPv6.15.20//NONSGML v1.0//EN
CALSCALE:GREGORIAN
METHOD:PUBLISH
X-ORIGINAL-URL:http://thestrandtheater.org
X-WR-CALDESC:Events for Strand Site
REFRESH-INTERVAL;VALUE=DURATION:PT1H
X-Robots-Tag:noindex
X-PUBLISHED-TTL:PT1H
BEGIN:VTIMEZONE
TZID:America/New_York
BEGIN:DAYLIGHT
TZOFFSETFROM:-0500
TZOFFSETTO:-0400
TZNAME:EDT
DTSTART:20250309T070000
END:DAYLIGHT
BEGIN:STANDARD
TZOFFSETFROM:-0400
TZOFFSETTO:-0500
TZNAME:EST
DTSTART:20251102T060000
END:STANDARD
BEGIN:DAYLIGHT
TZOFFSETFROM:-0500
TZOFFSETTO:-0400
TZNAME:EDT
DTSTART:20260308T070000
END:DAYLIGHT
BEGIN:STANDARD
TZOFFSETFROM:-0400
TZOFFSETTO:-0500
TZNAME:EST
DTSTART:20261101T060000
END:STANDARD
BEGIN:DAYLIGHT
TZOFFSETFROM:-0500
TZOFFSETTO:-0400
TZNAME:EDT
DTSTART:20270314T070000
END:DAYLIGHT
BEGIN:STANDARD
TZOFFSETFROM:-0400
TZOFFSETTO:-0500
TZNAME:EST
DTSTART:20271107T060000
END:STANDARD
END:VTIMEZONE
BEGIN:VEVENT
DTSTART;TZID=America/New_York:20260801T140000
DTEND;TZID=America/New_York:20260801T193000
DTSTAMP:20260425T222824
CREATED:20260126T120000Z
LAST-MODIFIED:20260125T224624Z
UID:9968-1785592800-1785612600@thestrandtheater.org
SUMMARY:Night Fever
DESCRIPTION:The Spirit of the Immortal Disco Legends Lives On with this Sensational Tribute Band!  \n\n\n\nExperience the glory days of disco with NIGHT FEVER – A Tribute to the BEE GEES. This spectacular concert brings the greatest hits of the legendary pop group Bee Gees back to life. Enjoy the irresistible disco beats of Night Fever\, the romantic ballad How Deep Is Your Love\, the iconic rhythms of Stayin’ Alive\, and the danceable grooves of You Should Be Dancing. Go back to a time of glitter\, glamour and endless dancing fun! \n\n\n\n\n\nFor five decades – a time span more than any other group in pop history – the Bee Gees redefined the international music scene with their incredible tenacity to remain current through all the eras of contemporary music. \n\n\n\nNIGHT FEVER is not your typical tribute act.  The show comes fully loaded with a full band\, including string\, horn and backup singers! \n\n\n\nThe close high harmonies of brothers Barry\, Robin and Maurice Gibb made The Bee Gees one of the most impossible attractions to launch a salute to…..until Night Fever. The vocal matchings of Night Fever’s John Ralphs\, Joe Varga and Carm Castiglione create an eerie sense of seeing the brothers Gibb in concert. Night Fever captures the sound and look of the Bee Gees. \n\n\n\nClick on the Graphic Above to Enjoy a Promo Video of ‘Night Fever’!\n\n\n\n\nNIGHT FEVER – Tribute to The Bee Gees \n\n\n\n\nSaturday\, August 12 Shows! 2:00pm & 7:30pm \n\n\n\n\n\n\n\n\nBuy Tickets\n\n\n\n\nTo arrange for handicapped accessible seating\, please call The Strand Box Office at 724.742.0400. Hours are Noon – 4pm\, Tuesday – Saturday. The Strand does not have an elevator.
URL:http://thestrandtheater.org/event/night-fever
CATEGORIES:Live shows,Music concerts,Special Events
ATTACH;FMTTYPE=image/jpeg:http://thestrandtheater.org/wp-content/uploads/2025/03/Night-Fever-Web-Cell.jpg
END:VEVENT
BEGIN:VEVENT
DTSTART;TZID=America/New_York:20260815T140000
DTEND;TZID=America/New_York:20260815T193000
DTSTAMP:20260425T222824
CREATED:20260316T110000Z
LAST-MODIFIED:20260316T021852Z
UID:9922-1786802400-1786822200@thestrandtheater.org
SUMMARY:The Olivia Show
DESCRIPTION:Sabrina Plaisance-Sia Brings Incredible Energy & Authenticity to Her Tribute to the Music & Movie Legend! \n\n\n\nSinger! Actress! Superstar! Over five decades of superstardom\, and the late Olivia Newton-John’s flame is still burning bright! An unstoppable force who dominated music\, movies\, and pop culture\, Olivia Newton-John broke barriers\, pushed boundaries\, and created timeless classics.  \n\n\n\nTHE OLIVIA SHOW\, starring Las Vegas Headliner and 2024 Josie Music Awards Tribute Artist of the Year Nominee\, Sabrina Plaisance-Sia\, shares the music and story of Olivia Newton-John from her early days as a country superstar\, to her unforgettable movie career\, and her iconic pop stardom.   \n\n\n\n\n\nTHE OLIVIA SHOW is 28 chart topping hits\, five decades of stardom\, two movie musicals\, nine Billboard Music Awards\, four Grammy Awards\, four People’s Choice Awards\, six American Music Awards\, a Country Music Association Award\, an Emmy\, and enough singing\, dancing\, and sequins to give Las Vegas a run for its money! THE OLIVIA SHOW is the amazingly energetic tribute to Olivia Newton-John that has audiences singing and dancing in the aisles!  \n\n\n\nIf you’re a Grease fan\, no worries there! Sabrina brings a talented male vocalist with her on tour\, so you’ll get the sensational duet\, You’re the One That I Want and even the title song\, Grease\, mixed in with the rest of Olivia Newton-John’s iconic body of work! \n\n\n\nSabrina Plaisance-Sia\, recording artist and 2024 Josie Music Awards Tribute Artist of the Year Nominee\, is an electrifying performer whose passion for music and theatre has taken her on a magical journey spanning over two decades. With a voice that transcends time and style\, she has entranced audiences from Tokyo to Las Vegas. Growing up\, Sabrina always admired Olivia Newton-John which inspired her to create her very own tribute show. \n\n\n\nClick on the Graphic Above to Enjoy a Quick Promo Video of ‘The Olivia Show’!\n\n\n\n\nThe Olivia Show!Tribute to Olivia Newton -John \n\n\n\nSaturday ONLY\, August 15 \n\n\n\n2 Shows! 2:00pm & 7:30pm \n\n\n\n\n\n\n\nBuy Tickets\n\n\n\n\nFor Handicapped Seating\, please call The Strand Box Office directly at 724-742-0400.  Hours are Noon – 4pm\, Tuesday – Saturday.
URL:http://thestrandtheater.org/event/the-olivia-show
CATEGORIES:Live shows,Music concerts,Special Events
ATTACH;FMTTYPE=image/jpeg:http://thestrandtheater.org/wp-content/uploads/2025/03/Olivia-Web-Cell.jpg
END:VEVENT
END:VCALENDAR